BEGIN:VCALENDAR
VERSION:2.0
PRODID:-//sjcschargers.com//NONSGML kigkonsult.se iCalcreator 2.30.10//
CALSCALE:GREGORIAN
METHOD:PUBLISH
UID:0bbd0b7a-2ce1-47d4-af91-6f13e7dc084c
X-WR-CALDESC:
X-WR-RELCALID:a85d8e977474d02ec6ff27155c81466f
X-WR-TIMEZONE:America/New_York
BEGIN:VTIMEZONE
TZID:America/New_York
BEGIN:STANDARD
TZNAME:EST
DTSTART:20211107T020000
TZOFFSETFROM:-0400
TZOFFSETTO:-0500
RDATE:20221106T020000
RDATE:20231105T020000
END:STANDARD
BEGIN:DAYLIGHT
TZNAME:EDT
DTSTART:20220313T020000
TZOFFSETFROM:-0500
TZOFFSETTO:-0400
RDATE:20230312T020000
RDATE:20240310T020000
END:DAYLIGHT
END:VTIMEZONE
BEGIN:VEVENT
UID:a44f7708-413d-4ba0-a995-dca8b68475f2
DTSTAMP:20260426T001801Z
DESCRIPTION:
DTSTART;TZID=America/New_York:20220912T000000
DTEND;TZID=America/New_York:20220912T235900
LOCATION:
SUMMARY:$2 Red\, White\, Blue NUT Day
END:VEVENT
END:VCALENDAR
