BEGIN:VCALENDAR
VERSION:2.0
PRODID:-//sjcschargers.com//NONSGML kigkonsult.se iCalcreator 2.30.10//
CALSCALE:GREGORIAN
METHOD:PUBLISH
UID:7e0ab1dd-f0be-4a96-bd1b-ed657d1e9054
X-WR-CALDESC:
X-WR-RELCALID:b7b7dbf0cbcbe776c8eba85164cab501
X-WR-TIMEZONE:America/New_York
BEGIN:VTIMEZONE
TZID:America/New_York
BEGIN:STANDARD
TZNAME:EST
DTSTART:20211107T020000
TZOFFSETFROM:-0400
TZOFFSETTO:-0500
RDATE:20221106T020000
RDATE:20231105T020000
END:STANDARD
BEGIN:DAYLIGHT
TZNAME:EDT
DTSTART:20220313T020000
TZOFFSETFROM:-0500
TZOFFSETTO:-0400
RDATE:20230312T020000
RDATE:20240310T020000
END:DAYLIGHT
END:VTIMEZONE
BEGIN:VEVENT
UID:5c494a1b-8622-425f-a6e4-f42b0e088eaa
DTSTAMP:20260426T003637Z
DESCRIPTION:
DTSTART;TZID=America/New_York:20220918T090000
DTEND;TZID=America/New_York:20220918T100000
LOCATION:
SUMMARY:Catechetical Sunday\; Band plays
END:VEVENT
END:VCALENDAR
