BEGIN:VCALENDAR
VERSION:2.0
PRODID:-//sjcschargers.com//NONSGML kigkonsult.se iCalcreator 2.30.10//
CALSCALE:GREGORIAN
METHOD:PUBLISH
UID:ef7b03ff-2101-4b77-9fba-7abca1f84bf8
X-WR-CALDESC:
X-WR-RELCALID:92e95fa3fb533ce7f661dd2c52e820e6
X-WR-TIMEZONE:America/New_York
BEGIN:VTIMEZONE
TZID:America/New_York
BEGIN:STANDARD
TZNAME:EST
DTSTART:20211107T020000
TZOFFSETFROM:-0400
TZOFFSETTO:-0500
RDATE:20221106T020000
RDATE:20231105T020000
END:STANDARD
BEGIN:DAYLIGHT
TZNAME:EDT
DTSTART:20220313T020000
TZOFFSETFROM:-0500
TZOFFSETTO:-0400
RDATE:20230312T020000
RDATE:20240310T020000
END:DAYLIGHT
END:VTIMEZONE
BEGIN:VEVENT
UID:27e5d5dd-a732-4098-a656-2ccd51a642e3
DTSTAMP:20260426T001638Z
DESCRIPTION:
DTSTART;TZID=America/New_York:20220921T083000
DTEND;TZID=America/New_York:20220921T093000
LOCATION:
SUMMARY:Mass--8th Grade Commissioning
END:VEVENT
END:VCALENDAR
