BEGIN:VCALENDAR
VERSION:2.0
PRODID:-//sjcschargers.com//NONSGML kigkonsult.se iCalcreator 2.30.10//
CALSCALE:GREGORIAN
METHOD:PUBLISH
UID:8d2b6eb9-52df-45f1-837d-4449779aaab3
X-WR-CALDESC:
X-WR-RELCALID:65a2f29a5eaa9e93345c007cc9b89975
X-WR-TIMEZONE:America/New_York
BEGIN:VTIMEZONE
TZID:America/New_York
BEGIN:STANDARD
TZNAME:EST
DTSTART:20211107T020000
TZOFFSETFROM:-0400
TZOFFSETTO:-0500
RDATE:20221106T020000
RDATE:20231105T020000
END:STANDARD
BEGIN:DAYLIGHT
TZNAME:EDT
DTSTART:20220313T020000
TZOFFSETFROM:-0500
TZOFFSETTO:-0400
RDATE:20230312T020000
RDATE:20240310T020000
END:DAYLIGHT
END:VTIMEZONE
BEGIN:VEVENT
UID:65bf0a4e-567e-419e-817b-1a0f82c81cb5
DTSTAMP:20260426T001936Z
DESCRIPTION:
DTSTART;TZID=America/New_York:20220922T081500
DTEND;TZID=America/New_York:20220922T091500
LOCATION:
SUMMARY:Home & School Meeting
END:VEVENT
END:VCALENDAR
