BEGIN:VCALENDAR
VERSION:2.0
PRODID:-//sjcschargers.com//NONSGML kigkonsult.se iCalcreator 2.30.10//
CALSCALE:GREGORIAN
METHOD:PUBLISH
UID:316dac21-756d-4e68-9c65-5d4c6d68280c
X-WR-CALDESC:
X-WR-RELCALID:bee66f67c88a4ba7532b68978f456902
X-WR-TIMEZONE:America/New_York
BEGIN:VTIMEZONE
TZID:America/New_York
BEGIN:STANDARD
TZNAME:EST
DTSTART:20211107T020000
TZOFFSETFROM:-0400
TZOFFSETTO:-0500
RDATE:20221106T020000
RDATE:20231105T020000
END:STANDARD
BEGIN:DAYLIGHT
TZNAME:EDT
DTSTART:20220313T020000
TZOFFSETFROM:-0500
TZOFFSETTO:-0400
RDATE:20230312T020000
RDATE:20240310T020000
END:DAYLIGHT
END:VTIMEZONE
BEGIN:VEVENT
UID:9553a38c-aee0-4d1a-85ba-f2fc1b7f6b81
DTSTAMP:20260425T224637Z
DESCRIPTION:
DTSTART;TZID=America/New_York:20221004T000000
DTEND;TZID=America/New_York:20221004T235900
LOCATION:
SUMMARY:Spirit Day-spirt shirt/uniform bottoms
END:VEVENT
END:VCALENDAR
