BEGIN:VCALENDAR
VERSION:2.0
PRODID:-//sjcschargers.com//NONSGML kigkonsult.se iCalcreator 2.30.10//
CALSCALE:GREGORIAN
METHOD:PUBLISH
UID:b6fca5e7-6a71-4b19-92fb-d15540e0c178
X-WR-CALDESC:
X-WR-RELCALID:b1b91a614485acfa29d2d8c8fa69ff4d
X-WR-TIMEZONE:America/New_York
BEGIN:VTIMEZONE
TZID:America/New_York
BEGIN:STANDARD
TZNAME:EST
DTSTART:20211107T020000
TZOFFSETFROM:-0400
TZOFFSETTO:-0500
RDATE:20221106T020000
RDATE:20231105T020000
END:STANDARD
BEGIN:DAYLIGHT
TZNAME:EDT
DTSTART:20220313T020000
TZOFFSETFROM:-0500
TZOFFSETTO:-0400
RDATE:20230312T020000
RDATE:20240310T020000
END:DAYLIGHT
END:VTIMEZONE
BEGIN:VEVENT
UID:44b4e2fc-ef35-4052-9112-9c8ac87ee2c9
DTSTAMP:20260425T225333Z
DESCRIPTION:
DTSTART;TZID=America/New_York:20221006T000000
DTEND;TZID=America/New_York:20221006T235900
LOCATION:
SUMMARY:$2 NUT Day-Hurricane Relief
END:VEVENT
END:VCALENDAR
