BEGIN:VCALENDAR
VERSION:2.0
PRODID:-//sjcschargers.com//NONSGML kigkonsult.se iCalcreator 2.30.10//
CALSCALE:GREGORIAN
METHOD:PUBLISH
UID:e66f091e-ac86-4932-8ac9-fdcc27c8c6cf
X-WR-CALDESC:
X-WR-RELCALID:ccba6f51158703967009f5cd2e702c25
X-WR-TIMEZONE:America/New_York
BEGIN:VTIMEZONE
TZID:America/New_York
BEGIN:STANDARD
TZNAME:EST
DTSTART:20211107T020000
TZOFFSETFROM:-0400
TZOFFSETTO:-0500
RDATE:20221106T020000
RDATE:20231105T020000
END:STANDARD
BEGIN:DAYLIGHT
TZNAME:EDT
DTSTART:20220313T020000
TZOFFSETFROM:-0500
TZOFFSETTO:-0400
RDATE:20230312T020000
RDATE:20240310T020000
END:DAYLIGHT
END:VTIMEZONE
BEGIN:VEVENT
UID:9a67ff8f-c3a8-476c-ad94-c6285ea5dfc9
DTSTAMP:20260425T223137Z
DESCRIPTION:
DTSTART;TZID=America/New_York:20221007T000000
DTEND;TZID=America/New_York:20221007T235900
LOCATION:
SUMMARY:Noon dismissal
END:VEVENT
END:VCALENDAR
