BEGIN:VCALENDAR
VERSION:2.0
PRODID:-//sjcschargers.com//NONSGML kigkonsult.se iCalcreator 2.30.10//
CALSCALE:GREGORIAN
METHOD:PUBLISH
UID:2be8d330-f61f-4658-a75a-a583b2bdd3e6
X-WR-CALDESC:
X-WR-RELCALID:1bab4385d5ec682c514afe916e11a242
X-WR-TIMEZONE:America/New_York
BEGIN:VTIMEZONE
TZID:America/New_York
BEGIN:STANDARD
TZNAME:EST
DTSTART:20211107T020000
TZOFFSETFROM:-0400
TZOFFSETTO:-0500
RDATE:20221106T020000
RDATE:20231105T020000
END:STANDARD
BEGIN:DAYLIGHT
TZNAME:EDT
DTSTART:20220313T020000
TZOFFSETFROM:-0500
TZOFFSETTO:-0400
RDATE:20230312T020000
RDATE:20240310T020000
END:DAYLIGHT
END:VTIMEZONE
BEGIN:VEVENT
UID:ae64609e-8d05-47e4-97b6-5979f95fb30a
DTSTAMP:20260425T224638Z
DESCRIPTION:
DTSTART;TZID=America/New_York:20221011T160000
DTEND;TZID=America/New_York:20221011T170000
LOCATION:
SUMMARY:Boys Soccer @ Calvary Christian
END:VEVENT
END:VCALENDAR
