BEGIN:VCALENDAR
VERSION:2.0
PRODID:-//sjcschargers.com//NONSGML kigkonsult.se iCalcreator 2.30.10//
CALSCALE:GREGORIAN
METHOD:PUBLISH
UID:afe002f2-33e3-4dc1-a3dd-8fd6fca4f598
X-WR-CALDESC:
X-WR-RELCALID:66d42bdd17a1dc4c0ea400987ce6800f
X-WR-TIMEZONE:America/New_York
BEGIN:VTIMEZONE
TZID:America/New_York
BEGIN:STANDARD
TZNAME:EST
DTSTART:20211107T020000
TZOFFSETFROM:-0400
TZOFFSETTO:-0500
RDATE:20221106T020000
RDATE:20231105T020000
END:STANDARD
BEGIN:DAYLIGHT
TZNAME:EDT
DTSTART:20220313T020000
TZOFFSETFROM:-0500
TZOFFSETTO:-0400
RDATE:20230312T020000
RDATE:20240310T020000
END:DAYLIGHT
END:VTIMEZONE
BEGIN:VEVENT
UID:21a357cf-8ee4-407b-bbe5-34ed6fc18cda
DTSTAMP:20260425T222913Z
DESCRIPTION:
DTSTART;TZID=America/New_York:20221012T083000
DTEND;TZID=America/New_York:20221012T093000
LOCATION:
SUMMARY:School Mass\, 3B
END:VEVENT
END:VCALENDAR
