BEGIN:VCALENDAR
VERSION:2.0
PRODID:-//sjcschargers.com//NONSGML kigkonsult.se iCalcreator 2.30.10//
CALSCALE:GREGORIAN
METHOD:PUBLISH
UID:dac2e378-8da4-44a3-a227-ffca43c2a32f
X-WR-CALDESC:
X-WR-RELCALID:18ff08c6b837354d17c6122dd7f7c371
X-WR-TIMEZONE:America/New_York
BEGIN:VTIMEZONE
TZID:America/New_York
BEGIN:STANDARD
TZNAME:EST
DTSTART:20211107T020000
TZOFFSETFROM:-0400
TZOFFSETTO:-0500
RDATE:20221106T020000
RDATE:20231105T020000
END:STANDARD
BEGIN:DAYLIGHT
TZNAME:EDT
DTSTART:20220313T020000
TZOFFSETFROM:-0500
TZOFFSETTO:-0400
RDATE:20230312T020000
RDATE:20240310T020000
END:DAYLIGHT
END:VTIMEZONE
BEGIN:VEVENT
UID:86729f8a-a2c1-4c5e-bde5-517a4e297779
DTSTAMP:20260425T225609Z
DESCRIPTION:
DTSTART;TZID=America/New_York:20221024T000000
DTEND;TZID=America/New_York:20221028T235900
LOCATION:
SUMMARY:SGA Red Ribbon Week
END:VEVENT
END:VCALENDAR
