BEGIN:VCALENDAR
VERSION:2.0
PRODID:-//sjcschargers.com//NONSGML kigkonsult.se iCalcreator 2.30.10//
CALSCALE:GREGORIAN
METHOD:PUBLISH
UID:26276c13-f86c-4d16-b894-a14b451b97b4
X-WR-CALDESC:
X-WR-RELCALID:dfa2d3a4fb4b0b11e280d9e96bda94a3
X-WR-TIMEZONE:America/New_York
BEGIN:VTIMEZONE
TZID:America/New_York
BEGIN:STANDARD
TZNAME:EST
DTSTART:20211107T020000
TZOFFSETFROM:-0400
TZOFFSETTO:-0500
RDATE:20221106T020000
RDATE:20231105T020000
END:STANDARD
BEGIN:DAYLIGHT
TZNAME:EDT
DTSTART:20220313T020000
TZOFFSETFROM:-0500
TZOFFSETTO:-0400
RDATE:20230312T020000
RDATE:20240310T020000
END:DAYLIGHT
END:VTIMEZONE
BEGIN:VEVENT
UID:19d86e6e-640c-4f1b-b76f-2c65f6a5d475
DTSTAMP:20260425T225449Z
DESCRIPTION:
DTSTART;TZID=America/New_York:20221027T000000
DTEND;TZID=America/New_York:20221027T235900
LOCATION:
SUMMARY:2:15 Pine School Visit to 8th grade
END:VEVENT
END:VCALENDAR
