BEGIN:VCALENDAR
VERSION:2.0
PRODID:-//sjcschargers.com//NONSGML kigkonsult.se iCalcreator 2.30.10//
CALSCALE:GREGORIAN
METHOD:PUBLISH
UID:5df3b400-7940-4bce-a0bc-8b553aeb64fe
X-WR-CALDESC:
X-WR-RELCALID:3fa1d693e797bc05053500a1dc1ef993
X-WR-TIMEZONE:America/New_York
BEGIN:VTIMEZONE
TZID:America/New_York
BEGIN:STANDARD
TZNAME:EST
DTSTART:20211107T020000
TZOFFSETFROM:-0400
TZOFFSETTO:-0500
RDATE:20221106T020000
RDATE:20231105T020000
END:STANDARD
BEGIN:DAYLIGHT
TZNAME:EDT
DTSTART:20220313T020000
TZOFFSETFROM:-0500
TZOFFSETTO:-0400
RDATE:20230312T020000
RDATE:20240310T020000
END:DAYLIGHT
END:VTIMEZONE
BEGIN:VEVENT
UID:72e441cd-9fce-46e6-b578-00680716e3b2
DTSTAMP:20260425T223029Z
DESCRIPTION:
DTSTART;TZID=America/New_York:20221028T183000
DTEND;TZID=America/New_York:20221028T203000
LOCATION:
SUMMARY:MS Halloween Dance
END:VEVENT
END:VCALENDAR
