BEGIN:VCALENDAR
VERSION:2.0
PRODID:-//sjcschargers.com//NONSGML kigkonsult.se iCalcreator 2.30.10//
CALSCALE:GREGORIAN
METHOD:PUBLISH
UID:4bc60843-a1f2-4de8-b6e0-7b54e0a40c73
X-WR-CALDESC:
X-WR-RELCALID:a47ffdc81bf3ed93bdec762217893d81
X-WR-TIMEZONE:America/New_York
BEGIN:VTIMEZONE
TZID:America/New_York
BEGIN:STANDARD
TZNAME:EST
DTSTART:20211107T020000
TZOFFSETFROM:-0400
TZOFFSETTO:-0500
RDATE:20221106T020000
RDATE:20231105T020000
END:STANDARD
BEGIN:DAYLIGHT
TZNAME:EDT
DTSTART:20220313T020000
TZOFFSETFROM:-0500
TZOFFSETTO:-0400
RDATE:20230312T020000
RDATE:20240310T020000
END:DAYLIGHT
END:VTIMEZONE
BEGIN:VEVENT
UID:5eeaf35a-8370-4cf4-8519-9f27172a66e4
DTSTAMP:20260425T205948Z
DESCRIPTION:
DTSTART;TZID=America/New_York:20221101T100000
DTEND;TZID=America/New_York:20221101T110000
LOCATION:
SUMMARY:All Saints Day Mass-Kindergarten & 5th Grade
END:VEVENT
END:VCALENDAR
