BEGIN:VCALENDAR
VERSION:2.0
PRODID:-//sjcschargers.com//NONSGML kigkonsult.se iCalcreator 2.30.10//
CALSCALE:GREGORIAN
METHOD:PUBLISH
UID:f4786ea0-c2bd-4d4b-8e3d-2ef267df58f0
X-WR-CALDESC:Wear Mass uniforms if getting pictures taken
X-WR-RELCALID:c54a3f13a825186648c4ab0c682f072c
X-WR-TIMEZONE:America/New_York
BEGIN:VTIMEZONE
TZID:America/New_York
BEGIN:STANDARD
TZNAME:EST
DTSTART:20211107T020000
TZOFFSETFROM:-0400
TZOFFSETTO:-0500
RDATE:20221106T020000
RDATE:20231105T020000
END:STANDARD
BEGIN:DAYLIGHT
TZNAME:EDT
DTSTART:20220313T020000
TZOFFSETFROM:-0500
TZOFFSETTO:-0400
RDATE:20230312T020000
RDATE:20240310T020000
END:DAYLIGHT
END:VTIMEZONE
BEGIN:VEVENT
UID:e568f96e-6f8d-4407-a497-a79046959d7c
DTSTAMP:20260425T205825Z
DESCRIPTION:Wear Mass uniforms if getting pictures taken
DTSTART;TZID=America/New_York:20221102T000000
DTEND;TZID=America/New_York:20221102T235900
LOCATION:
SUMMARY:Picture Retake Day
END:VEVENT
END:VCALENDAR
