BEGIN:VCALENDAR
VERSION:2.0
PRODID:-//sjcschargers.com//NONSGML kigkonsult.se iCalcreator 2.30.10//
CALSCALE:GREGORIAN
METHOD:PUBLISH
UID:a44c29b7-347f-4a4d-8ee9-984d6edae4e7
X-WR-CALDESC:
X-WR-RELCALID:fd1de61b156d497c1ddcd3a9cf414a08
X-WR-TIMEZONE:America/New_York
BEGIN:VTIMEZONE
TZID:America/New_York
BEGIN:STANDARD
TZNAME:EST
DTSTART:20211107T020000
TZOFFSETFROM:-0400
TZOFFSETTO:-0500
RDATE:20221106T020000
RDATE:20231105T020000
END:STANDARD
BEGIN:DAYLIGHT
TZNAME:EDT
DTSTART:20220313T020000
TZOFFSETFROM:-0500
TZOFFSETTO:-0400
RDATE:20230312T020000
RDATE:20240310T020000
END:DAYLIGHT
END:VTIMEZONE
BEGIN:VEVENT
UID:417d9705-57ca-46de-8279-b508a7b99d2b
DTSTAMP:20260425T205911Z
DESCRIPTION:
DTSTART;TZID=America/New_York:20221104T111500
DTEND;TZID=America/New_York:20221104T114500
LOCATION:
SUMMARY:Prayer Service\, led by SGA
END:VEVENT
END:VCALENDAR
