BEGIN:VCALENDAR
VERSION:2.0
PRODID:-//sjcschargers.com//NONSGML kigkonsult.se iCalcreator 2.30.10//
CALSCALE:GREGORIAN
METHOD:PUBLISH
UID:15450bdf-572e-4569-bc94-b0f960fa642d
X-WR-CALDESC:
X-WR-RELCALID:bd8ab40f1226ea1ded3e4044ad3a0047
X-WR-TIMEZONE:America/New_York
BEGIN:VTIMEZONE
TZID:America/New_York
BEGIN:STANDARD
TZNAME:EST
DTSTART:20211107T020000
TZOFFSETFROM:-0400
TZOFFSETTO:-0500
RDATE:20221106T020000
RDATE:20231105T020000
END:STANDARD
BEGIN:DAYLIGHT
TZNAME:EDT
DTSTART:20220313T020000
TZOFFSETFROM:-0500
TZOFFSETTO:-0400
RDATE:20230312T020000
RDATE:20240310T020000
END:DAYLIGHT
END:VTIMEZONE
BEGIN:VEVENT
UID:4df521de-4fb5-4f01-9546-77829c9ef558
DTSTAMP:20260425T205704Z
DESCRIPTION:
DTSTART;TZID=America/New_York:20221106T000000
DTEND;TZID=America/New_York:20221119T235900
LOCATION:
SUMMARY:Boon Supply Fundraiser
END:VEVENT
END:VCALENDAR
