BEGIN:VCALENDAR
VERSION:2.0
PRODID:-//sjcschargers.com//NONSGML kigkonsult.se iCalcreator 2.30.10//
CALSCALE:GREGORIAN
METHOD:PUBLISH
UID:65a43f97-c7c4-42c6-bc82-a70f4c14f6f9
X-WR-CALDESC:
X-WR-RELCALID:e822bd604a98b05e45e738502e5ed81f
X-WR-TIMEZONE:America/New_York
BEGIN:VTIMEZONE
TZID:America/New_York
BEGIN:STANDARD
TZNAME:EST
DTSTART:20211107T020000
TZOFFSETFROM:-0400
TZOFFSETTO:-0500
RDATE:20221106T020000
RDATE:20231105T020000
END:STANDARD
BEGIN:DAYLIGHT
TZNAME:EDT
DTSTART:20220313T020000
TZOFFSETFROM:-0500
TZOFFSETTO:-0400
RDATE:20230312T020000
RDATE:20240310T020000
END:DAYLIGHT
END:VTIMEZONE
BEGIN:VEVENT
UID:f7c44be2-addf-4057-9917-04e95a2c608f
DTSTAMP:20260425T210222Z
DESCRIPTION:
DTSTART;TZID=America/New_York:20221106T090000
DTEND;TZID=America/New_York:20221106T100000
LOCATION:
SUMMARY:Sunday School Mass\, 7B\; symphonic band plays
END:VEVENT
END:VCALENDAR
