BEGIN:VCALENDAR
VERSION:2.0
PRODID:-//sjcschargers.com//NONSGML kigkonsult.se iCalcreator 2.30.10//
CALSCALE:GREGORIAN
METHOD:PUBLISH
UID:675df293-0bba-4b73-b898-30e408ca8a37
X-WR-CALDESC:
X-WR-RELCALID:f5611ff14908d4c8f2fe329f365b3577
X-WR-TIMEZONE:America/New_York
BEGIN:VTIMEZONE
TZID:America/New_York
BEGIN:STANDARD
TZNAME:EST
DTSTART:20221106T020000
TZOFFSETFROM:-0400
TZOFFSETTO:-0500
RDATE:20231105T020000
END:STANDARD
BEGIN:DAYLIGHT
TZNAME:EDT
DTSTART:20220313T020000
TZOFFSETFROM:-0500
TZOFFSETTO:-0400
RDATE:20230312T020000
RDATE:20240310T020000
END:DAYLIGHT
END:VTIMEZONE
BEGIN:VEVENT
UID:977dc0ad-ff50-4ff0-a324-91db6f980740
DTSTAMP:20260425T205610Z
DESCRIPTION:
DTSTART;TZID=America/New_York:20221108T000000
DTEND;TZID=America/New_York:20221108T235900
LOCATION:
SUMMARY:Class Mass - 4th grade - 1:45pm
END:VEVENT
END:VCALENDAR
