BEGIN:VCALENDAR
VERSION:2.0
PRODID:-//sjcschargers.com//NONSGML kigkonsult.se iCalcreator 2.30.10//
CALSCALE:GREGORIAN
METHOD:PUBLISH
UID:534ad029-11e4-4d3c-a2e5-5ef04c204d22
X-WR-CALDESC:
X-WR-RELCALID:03edd2103ab1bb7bdc2e5ceaf1ae84f2
X-WR-TIMEZONE:America/New_York
BEGIN:VTIMEZONE
TZID:America/New_York
BEGIN:STANDARD
TZNAME:EST
DTSTART:20221106T020000
TZOFFSETFROM:-0400
TZOFFSETTO:-0500
RDATE:20231105T020000
END:STANDARD
BEGIN:DAYLIGHT
TZNAME:EDT
DTSTART:20220313T020000
TZOFFSETFROM:-0500
TZOFFSETTO:-0400
RDATE:20230312T020000
RDATE:20240310T020000
END:DAYLIGHT
END:VTIMEZONE
BEGIN:VEVENT
UID:7f59fb45-cad8-4301-aae1-cddf2664152c
DTSTAMP:20260425T205636Z
DESCRIPTION:
DTSTART;TZID=America/New_York:20221109T083000
DTEND;TZID=America/New_York:20221109T093000
LOCATION:
SUMMARY:School Mass\, 3B
END:VEVENT
END:VCALENDAR
