BEGIN:VCALENDAR
VERSION:2.0
PRODID:-//sjcschargers.com//NONSGML kigkonsult.se iCalcreator 2.30.10//
CALSCALE:GREGORIAN
METHOD:PUBLISH
UID:f1a34994-ae2a-457e-ab70-f05a49b1f2b0
X-WR-CALDESC:
X-WR-RELCALID:048663c9257d55cb3f0098fe1e69c3cc
X-WR-TIMEZONE:America/New_York
BEGIN:VTIMEZONE
TZID:America/New_York
BEGIN:STANDARD
TZNAME:EST
DTSTART:20221106T020000
TZOFFSETFROM:-0400
TZOFFSETTO:-0500
RDATE:20231105T020000
END:STANDARD
BEGIN:DAYLIGHT
TZNAME:EDT
DTSTART:20220313T020000
TZOFFSETFROM:-0500
TZOFFSETTO:-0400
RDATE:20230312T020000
RDATE:20240310T020000
END:DAYLIGHT
END:VTIMEZONE
BEGIN:VEVENT
UID:5d0c3d66-c7e7-4c5e-a1ac-c485df5528ed
DTSTAMP:20260425T205938Z
DESCRIPTION:
DTSTART;TZID=America/New_York:20221110T000000
DTEND;TZID=America/New_York:20221110T235900
LOCATION:
SUMMARY:John Carroll High School Open House
END:VEVENT
END:VCALENDAR
