BEGIN:VCALENDAR
VERSION:2.0
PRODID:-//sjcschargers.com//NONSGML kigkonsult.se iCalcreator 2.30.10//
CALSCALE:GREGORIAN
METHOD:PUBLISH
UID:79a1e692-e567-4c5d-ba78-11d84294911c
X-WR-CALDESC:
X-WR-RELCALID:c852827c5a023f37371045cd5c4698fe
X-WR-TIMEZONE:America/New_York
BEGIN:VTIMEZONE
TZID:America/New_York
BEGIN:STANDARD
TZNAME:EST
DTSTART:20221106T020000
TZOFFSETFROM:-0400
TZOFFSETTO:-0500
RDATE:20231105T020000
END:STANDARD
BEGIN:DAYLIGHT
TZNAME:EDT
DTSTART:20220313T020000
TZOFFSETFROM:-0500
TZOFFSETTO:-0400
RDATE:20230312T020000
RDATE:20240310T020000
END:DAYLIGHT
END:VTIMEZONE
BEGIN:VEVENT
UID:9becdbf0-3e4b-448d-86e3-e1d9d49f22d3
DTSTAMP:20260425T210427Z
DESCRIPTION:
DTSTART;TZID=America/New_York:20221115T161500
DTEND;TZID=America/New_York:20221115T171500
LOCATION:
SUMMARY:Girls BB @ Home JV 4:15 V 5:15
END:VEVENT
END:VCALENDAR
