BEGIN:VCALENDAR
VERSION:2.0
PRODID:-//sjcschargers.com//NONSGML kigkonsult.se iCalcreator 2.30.10//
CALSCALE:GREGORIAN
METHOD:PUBLISH
UID:8c8ce4c2-bb23-4155-82c2-1fc41c59fde0
X-WR-CALDESC:
X-WR-RELCALID:57dbb969d6c2e3d9ab6e3599ba502218
X-WR-TIMEZONE:America/New_York
BEGIN:VTIMEZONE
TZID:America/New_York
BEGIN:STANDARD
TZNAME:EST
DTSTART:20221106T020000
TZOFFSETFROM:-0400
TZOFFSETTO:-0500
RDATE:20231105T020000
END:STANDARD
BEGIN:DAYLIGHT
TZNAME:EDT
DTSTART:20220313T020000
TZOFFSETFROM:-0500
TZOFFSETTO:-0400
RDATE:20230312T020000
RDATE:20240310T020000
END:DAYLIGHT
END:VTIMEZONE
BEGIN:VEVENT
UID:2a126ade-8c25-4202-9228-ab0bee6d158c
DTSTAMP:20260425T210454Z
DESCRIPTION:
DTSTART;TZID=America/New_York:20221115T171500
DTEND;TZID=America/New_York:20221115T181500
LOCATION:
SUMMARY:V Boys Basketball  @ St. Helen(Fenn Center Ft. Pierce)
END:VEVENT
END:VCALENDAR
