BEGIN:VCALENDAR
VERSION:2.0
PRODID:-//sjcschargers.com//NONSGML kigkonsult.se iCalcreator 2.30.10//
CALSCALE:GREGORIAN
METHOD:PUBLISH
UID:51e8f817-7fe4-405c-aeb6-af185d6bcf7b
X-WR-CALDESC:
X-WR-RELCALID:4f671de7fbe9f58a9ae7e69191976812
X-WR-TIMEZONE:America/New_York
BEGIN:VTIMEZONE
TZID:America/New_York
BEGIN:STANDARD
TZNAME:EST
DTSTART:20221106T020000
TZOFFSETFROM:-0400
TZOFFSETTO:-0500
RDATE:20231105T020000
END:STANDARD
BEGIN:DAYLIGHT
TZNAME:EDT
DTSTART:20220313T020000
TZOFFSETFROM:-0500
TZOFFSETTO:-0400
RDATE:20230312T020000
RDATE:20240310T020000
END:DAYLIGHT
END:VTIMEZONE
BEGIN:VEVENT
UID:28df55ae-c1ca-4d5e-8178-aff949e6af4e
DTSTAMP:20260420T092232Z
DESCRIPTION:
DTSTART;TZID=America/New_York:20221127T000000
DTEND;TZID=America/New_York:20221127T235900
LOCATION:
SUMMARY:Advent Begins
END:VEVENT
END:VCALENDAR
