BEGIN:VCALENDAR
VERSION:2.0
PRODID:-//sjcschargers.com//NONSGML kigkonsult.se iCalcreator 2.30.10//
CALSCALE:GREGORIAN
METHOD:PUBLISH
UID:dc7ff20f-d0ae-479f-9dfd-85a791e8f85a
X-WR-CALDESC:
X-WR-RELCALID:e5a1c4f647bff1889481dc0f749f44b5
X-WR-TIMEZONE:America/New_York
BEGIN:VTIMEZONE
TZID:America/New_York
BEGIN:STANDARD
TZNAME:EST
DTSTART:20221106T020000
TZOFFSETFROM:-0400
TZOFFSETTO:-0500
RDATE:20231105T020000
END:STANDARD
BEGIN:DAYLIGHT
TZNAME:EDT
DTSTART:20220313T020000
TZOFFSETFROM:-0500
TZOFFSETTO:-0400
RDATE:20230312T020000
RDATE:20240310T020000
END:DAYLIGHT
END:VTIMEZONE
BEGIN:VEVENT
UID:cd71d073-0a0b-4f9a-ab48-6815eefce31d
DTSTAMP:20260425T210351Z
DESCRIPTION:
DTSTART;TZID=America/New_York:20221128T154500
DTEND;TZID=America/New_York:20221128T164500
LOCATION:
SUMMARY:Girls BB @ Redeemer JV 3:45 V 4:45
END:VEVENT
END:VCALENDAR
