BEGIN:VCALENDAR
VERSION:2.0
PRODID:-//sjcschargers.com//NONSGML kigkonsult.se iCalcreator 2.30.10//
CALSCALE:GREGORIAN
METHOD:PUBLISH
UID:99af5060-8bd6-45a8-9589-208aa4033884
X-WR-CALDESC:
X-WR-RELCALID:353b6af4542f24657952f76d8365d3c3
X-WR-TIMEZONE:America/New_York
BEGIN:VTIMEZONE
TZID:America/New_York
BEGIN:STANDARD
TZNAME:EST
DTSTART:20221106T020000
TZOFFSETFROM:-0400
TZOFFSETTO:-0500
RDATE:20231105T020000
END:STANDARD
BEGIN:DAYLIGHT
TZNAME:EDT
DTSTART:20220313T020000
TZOFFSETFROM:-0500
TZOFFSETTO:-0400
RDATE:20230312T020000
RDATE:20240310T020000
END:DAYLIGHT
END:VTIMEZONE
BEGIN:VEVENT
UID:4aa6c191-6a97-4222-bbce-4a09e7b16787
DTSTAMP:20260425T205753Z
DESCRIPTION:
DTSTART;TZID=America/New_York:20221128T000000
DTEND;TZID=America/New_York:20221128T235900
LOCATION:
SUMMARY:KB Prayer Service
END:VEVENT
END:VCALENDAR
