BEGIN:VCALENDAR
VERSION:2.0
PRODID:-//sjcschargers.com//NONSGML kigkonsult.se iCalcreator 2.30.10//
CALSCALE:GREGORIAN
METHOD:PUBLISH
UID:bd9cf3b9-ca51-4aad-a1ae-dba6ea13334a
X-WR-CALDESC:
X-WR-RELCALID:0d05c7060d47d9c1151b74094ef77456
X-WR-TIMEZONE:America/New_York
BEGIN:VTIMEZONE
TZID:America/New_York
BEGIN:STANDARD
TZNAME:EST
DTSTART:20221106T020000
TZOFFSETFROM:-0400
TZOFFSETTO:-0500
RDATE:20231105T020000
END:STANDARD
BEGIN:DAYLIGHT
TZNAME:EDT
DTSTART:20220313T020000
TZOFFSETFROM:-0500
TZOFFSETTO:-0400
RDATE:20230312T020000
RDATE:20240310T020000
END:DAYLIGHT
END:VTIMEZONE
BEGIN:VEVENT
UID:bbcb5a6a-a67e-4bcb-93d8-7b660befe9f2
DTSTAMP:20260425T205617Z
DESCRIPTION:
DTSTART;TZID=America/New_York:20221129T000000
DTEND;TZID=America/New_York:20221129T235900
LOCATION:
SUMMARY:Class Mass - 1A - 1:45pm
END:VEVENT
END:VCALENDAR
