BEGIN:VCALENDAR
VERSION:2.0
PRODID:-//sjcschargers.com//NONSGML kigkonsult.se iCalcreator 2.30.10//
CALSCALE:GREGORIAN
METHOD:PUBLISH
UID:09f0501e-7ab7-40f7-96d4-d897f723fb0f
X-WR-CALDESC:
X-WR-RELCALID:d2dd00e977bcf6e3a1d4d6f01440b51d
X-WR-TIMEZONE:America/New_York
BEGIN:VTIMEZONE
TZID:America/New_York
BEGIN:STANDARD
TZNAME:EST
DTSTART:20221106T020000
TZOFFSETFROM:-0400
TZOFFSETTO:-0500
RDATE:20231105T020000
END:STANDARD
BEGIN:DAYLIGHT
TZNAME:EDT
DTSTART:20220313T020000
TZOFFSETFROM:-0500
TZOFFSETTO:-0400
RDATE:20230312T020000
RDATE:20240310T020000
END:DAYLIGHT
END:VTIMEZONE
BEGIN:VEVENT
UID:b238b3fc-864e-44e5-bee1-d7374e396bdc
DTSTAMP:20260425T204848Z
DESCRIPTION:
DTSTART;TZID=America/New_York:20221129T000000
DTEND;TZID=America/New_York:20221129T235900
LOCATION:
SUMMARY:Confessions\, 3rd Grade
END:VEVENT
END:VCALENDAR
