BEGIN:VCALENDAR
VERSION:2.0
PRODID:-//sjcschargers.com//NONSGML kigkonsult.se iCalcreator 2.30.10//
CALSCALE:GREGORIAN
METHOD:PUBLISH
UID:ff5542b3-c0a6-49a5-b5e0-505391d9b6b0
X-WR-CALDESC:
X-WR-RELCALID:cd2345da5adbd6fa17ead880cbadad53
X-WR-TIMEZONE:America/New_York
BEGIN:VTIMEZONE
TZID:America/New_York
BEGIN:STANDARD
TZNAME:EST
DTSTART:20221106T020000
TZOFFSETFROM:-0400
TZOFFSETTO:-0500
RDATE:20231105T020000
END:STANDARD
BEGIN:DAYLIGHT
TZNAME:EDT
DTSTART:20220313T020000
TZOFFSETFROM:-0500
TZOFFSETTO:-0400
RDATE:20230312T020000
RDATE:20240310T020000
END:DAYLIGHT
END:VTIMEZONE
BEGIN:VEVENT
UID:2e9e9660-ebbc-4545-baf5-330a513f7e30
DTSTAMP:20260425T210341Z
DESCRIPTION:
DTSTART;TZID=America/New_York:20221129T170000
DTEND;TZID=America/New_York:20221129T180000
LOCATION:
SUMMARY:Girls BB @ Home JV 5 V 6
END:VEVENT
END:VCALENDAR
