BEGIN:VCALENDAR
VERSION:2.0
PRODID:-//sjcschargers.com//NONSGML kigkonsult.se iCalcreator 2.30.10//
CALSCALE:GREGORIAN
METHOD:PUBLISH
UID:de54b173-59ca-41fc-b1df-dc91862d3017
X-WR-CALDESC:
X-WR-RELCALID:e30148c05fa0b0769b120e28dfe93a5a
X-WR-TIMEZONE:America/New_York
BEGIN:VTIMEZONE
TZID:America/New_York
BEGIN:STANDARD
TZNAME:EST
DTSTART:20221106T020000
TZOFFSETFROM:-0400
TZOFFSETTO:-0500
RDATE:20231105T020000
END:STANDARD
BEGIN:DAYLIGHT
TZNAME:EDT
DTSTART:20220313T020000
TZOFFSETFROM:-0500
TZOFFSETTO:-0400
RDATE:20230312T020000
RDATE:20240310T020000
END:DAYLIGHT
END:VTIMEZONE
BEGIN:VEVENT
UID:74c5c1fd-6547-4ffd-a4af-4f607ff03921
DTSTAMP:20260425T191258Z
DESCRIPTION:
DTSTART;TZID=America/New_York:20221201T000000
DTEND;TZID=America/New_York:20221201T235900
LOCATION:
SUMMARY:Confessions (4th & 5th)
END:VEVENT
END:VCALENDAR
