BEGIN:VCALENDAR
VERSION:2.0
PRODID:-//sjcschargers.com//NONSGML kigkonsult.se iCalcreator 2.30.10//
CALSCALE:GREGORIAN
METHOD:PUBLISH
UID:f115e83e-047e-4e99-acc4-9acfde274d68
X-WR-CALDESC:
X-WR-RELCALID:01c0fc4445ff7ae724adad39bed4b587
X-WR-TIMEZONE:America/New_York
BEGIN:VTIMEZONE
TZID:America/New_York
BEGIN:STANDARD
TZNAME:EST
DTSTART:20221106T020000
TZOFFSETFROM:-0400
TZOFFSETTO:-0500
RDATE:20231105T020000
END:STANDARD
BEGIN:DAYLIGHT
TZNAME:EDT
DTSTART:20220313T020000
TZOFFSETFROM:-0500
TZOFFSETTO:-0400
RDATE:20230312T020000
RDATE:20240310T020000
END:DAYLIGHT
END:VTIMEZONE
BEGIN:VEVENT
UID:64181b75-5cca-4932-8a0e-43f56675c9dd
DTSTAMP:20260425T191849Z
DESCRIPTION:
DTSTART;TZID=America/New_York:20221201T160000
DTEND;TZID=America/New_York:20221201T170000
LOCATION:
SUMMARY:Girls BB @  Home JV 4 V 5
END:VEVENT
END:VCALENDAR
