BEGIN:VCALENDAR
VERSION:2.0
PRODID:-//sjcschargers.com//NONSGML kigkonsult.se iCalcreator 2.30.10//
CALSCALE:GREGORIAN
METHOD:PUBLISH
UID:2e4998ae-898f-4832-b0e7-65285af03f62
X-WR-CALDESC:
X-WR-RELCALID:47d3a5eb69d392122826fc2eabfa9932
X-WR-TIMEZONE:America/New_York
BEGIN:VTIMEZONE
TZID:America/New_York
BEGIN:STANDARD
TZNAME:EST
DTSTART:20221106T020000
TZOFFSETFROM:-0400
TZOFFSETTO:-0500
RDATE:20231105T020000
END:STANDARD
BEGIN:DAYLIGHT
TZNAME:EDT
DTSTART:20220313T020000
TZOFFSETFROM:-0500
TZOFFSETTO:-0400
RDATE:20230312T020000
RDATE:20240310T020000
END:DAYLIGHT
END:VTIMEZONE
BEGIN:VEVENT
UID:502dfc73-4ea0-434f-a827-392a40e83db3
DTSTAMP:20260425T191731Z
DESCRIPTION:
DTSTART;TZID=America/New_York:20221202T000000
DTEND;TZID=America/New_York:20221202T235900
LOCATION:
SUMMARY:Stuart Christmas Parade 6-9pm (drumline plays)
END:VEVENT
END:VCALENDAR
