BEGIN:VCALENDAR
VERSION:2.0
PRODID:-//sjcschargers.com//NONSGML kigkonsult.se iCalcreator 2.30.10//
CALSCALE:GREGORIAN
METHOD:PUBLISH
UID:ff468bdb-d769-4e8e-b7bf-6f98965657e9
X-WR-CALDESC:
X-WR-RELCALID:8f6c63fe4b6bc2caa8d67905acd42d4f
X-WR-TIMEZONE:America/New_York
BEGIN:VTIMEZONE
TZID:America/New_York
BEGIN:STANDARD
TZNAME:EST
DTSTART:20221106T020000
TZOFFSETFROM:-0400
TZOFFSETTO:-0500
RDATE:20231105T020000
END:STANDARD
BEGIN:DAYLIGHT
TZNAME:EDT
DTSTART:20220313T020000
TZOFFSETFROM:-0500
TZOFFSETTO:-0400
RDATE:20230312T020000
RDATE:20240310T020000
END:DAYLIGHT
END:VTIMEZONE
BEGIN:VEVENT
UID:5ac521eb-9103-4570-ac4f-b25079f91798
DTSTAMP:20260425T191851Z
DESCRIPTION:
DTSTART;TZID=America/New_York:20221205T154500
DTEND;TZID=America/New_York:20221205T164500
LOCATION:
SUMMARY:Boys BB @ Redeemer JV 3:45 V 4:45
END:VEVENT
END:VCALENDAR
