BEGIN:VCALENDAR
VERSION:2.0
PRODID:-//sjcschargers.com//NONSGML kigkonsult.se iCalcreator 2.30.10//
CALSCALE:GREGORIAN
METHOD:PUBLISH
UID:0f3d441f-9d55-4acd-b08e-5ed87f8f7b01
X-WR-CALDESC:
X-WR-RELCALID:59e0ca9916e58a08140bd0861774c23b
X-WR-TIMEZONE:America/New_York
BEGIN:VTIMEZONE
TZID:America/New_York
BEGIN:STANDARD
TZNAME:EST
DTSTART:20221106T020000
TZOFFSETFROM:-0400
TZOFFSETTO:-0500
RDATE:20231105T020000
END:STANDARD
BEGIN:DAYLIGHT
TZNAME:EDT
DTSTART:20220313T020000
TZOFFSETFROM:-0500
TZOFFSETTO:-0400
RDATE:20230312T020000
RDATE:20240310T020000
END:DAYLIGHT
END:VTIMEZONE
BEGIN:VEVENT
UID:0569ea18-ae32-4a8e-9c92-81dad2d76229
DTSTAMP:20260425T192440Z
DESCRIPTION:
DTSTART;TZID=America/New_York:20221206T000000
DTEND;TZID=America/New_York:20221206T235900
LOCATION:
SUMMARY:Spirit Day-spirt shirt/uniform bottoms
END:VEVENT
END:VCALENDAR
