BEGIN:VCALENDAR
VERSION:2.0
PRODID:-//sjcschargers.com//NONSGML kigkonsult.se iCalcreator 2.30.10//
CALSCALE:GREGORIAN
METHOD:PUBLISH
UID:e5076f4f-a7e0-447f-b113-d11b4d12791f
X-WR-CALDESC:
X-WR-RELCALID:2fcd7b2823f2b818a7170f832f956ca0
X-WR-TIMEZONE:America/New_York
BEGIN:VTIMEZONE
TZID:America/New_York
BEGIN:STANDARD
TZNAME:EST
DTSTART:20221106T020000
TZOFFSETFROM:-0400
TZOFFSETTO:-0500
RDATE:20231105T020000
END:STANDARD
BEGIN:DAYLIGHT
TZNAME:EDT
DTSTART:20220313T020000
TZOFFSETFROM:-0500
TZOFFSETTO:-0400
RDATE:20230312T020000
RDATE:20240310T020000
END:DAYLIGHT
END:VTIMEZONE
BEGIN:VEVENT
UID:ef2e32c1-1320-4f57-94ec-414235d1d03d
DTSTAMP:20260425T191850Z
DESCRIPTION:
DTSTART;TZID=America/New_York:20221206T161500
DTEND;TZID=America/New_York:20221206T171500
LOCATION:
SUMMARY:Boys BB @ Home JV 4:15 V 5:15
END:VEVENT
END:VCALENDAR
