BEGIN:VCALENDAR
VERSION:2.0
PRODID:-//sjcschargers.com//NONSGML kigkonsult.se iCalcreator 2.30.10//
CALSCALE:GREGORIAN
METHOD:PUBLISH
UID:77d2d82d-4212-49a0-8b4a-599c08bb31fa
X-WR-CALDESC:
X-WR-RELCALID:c9404d61a7721097486ec223333bb7ab
X-WR-TIMEZONE:America/New_York
BEGIN:VTIMEZONE
TZID:America/New_York
BEGIN:STANDARD
TZNAME:EST
DTSTART:20221106T020000
TZOFFSETFROM:-0400
TZOFFSETTO:-0500
RDATE:20231105T020000
END:STANDARD
BEGIN:DAYLIGHT
TZNAME:EDT
DTSTART:20220313T020000
TZOFFSETFROM:-0500
TZOFFSETTO:-0400
RDATE:20230312T020000
RDATE:20240310T020000
END:DAYLIGHT
END:VTIMEZONE
BEGIN:VEVENT
UID:375f532d-a0ae-41fd-8c11-5b7aa06d6c93
DTSTAMP:20260425T191358Z
DESCRIPTION:
DTSTART;TZID=America/New_York:20221206T000000
DTEND;TZID=America/New_York:20221206T235900
LOCATION:
SUMMARY:Confessions 6th grade
END:VEVENT
END:VCALENDAR
