BEGIN:VCALENDAR
VERSION:2.0
PRODID:-//sjcschargers.com//NONSGML kigkonsult.se iCalcreator 2.30.10//
CALSCALE:GREGORIAN
METHOD:PUBLISH
UID:54c6d312-89ff-4612-99b8-731499ac685d
X-WR-CALDESC:
X-WR-RELCALID:5fb0fe0d3bc35765aaf5c6f3aadeb186
X-WR-TIMEZONE:America/New_York
BEGIN:VTIMEZONE
TZID:America/New_York
BEGIN:STANDARD
TZNAME:EST
DTSTART:20221106T020000
TZOFFSETFROM:-0400
TZOFFSETTO:-0500
RDATE:20231105T020000
END:STANDARD
BEGIN:DAYLIGHT
TZNAME:EDT
DTSTART:20220313T020000
TZOFFSETFROM:-0500
TZOFFSETTO:-0400
RDATE:20230312T020000
RDATE:20240310T020000
END:DAYLIGHT
END:VTIMEZONE
BEGIN:VEVENT
UID:343dbefc-f441-4801-be47-7d99a89b9d94
DTSTAMP:20260425T191844Z
DESCRIPTION:
DTSTART;TZID=America/New_York:20221208T000000
DTEND;TZID=America/New_York:20221208T235900
LOCATION:
SUMMARY:School Mass (5th grade) - Solemnity of the Immaculate Conception
END:VEVENT
END:VCALENDAR
