BEGIN:VCALENDAR
VERSION:2.0
PRODID:-//sjcschargers.com//NONSGML kigkonsult.se iCalcreator 2.30.10//
CALSCALE:GREGORIAN
METHOD:PUBLISH
UID:100c934b-c415-484e-a0e7-56c1487f9c58
X-WR-CALDESC:
X-WR-RELCALID:83670c8dedf43e38f33f28d19c00b2c0
X-WR-TIMEZONE:America/New_York
BEGIN:VTIMEZONE
TZID:America/New_York
BEGIN:STANDARD
TZNAME:EST
DTSTART:20221106T020000
TZOFFSETFROM:-0400
TZOFFSETTO:-0500
RDATE:20231105T020000
END:STANDARD
BEGIN:DAYLIGHT
TZNAME:EDT
DTSTART:20220313T020000
TZOFFSETFROM:-0500
TZOFFSETTO:-0400
RDATE:20230312T020000
RDATE:20240310T020000
END:DAYLIGHT
END:VTIMEZONE
BEGIN:VEVENT
UID:4f95ebb8-b110-4a1a-bc13-0f2808aac5ea
DTSTAMP:20260425T173417Z
DESCRIPTION:
DTSTART;TZID=America/New_York:20230106T000000
DTEND;TZID=America/New_York:20230106T235900
LOCATION:
SUMMARY:Half Day - First Friday
END:VEVENT
END:VCALENDAR
