BEGIN:VCALENDAR
VERSION:2.0
PRODID:-//sjcschargers.com//NONSGML kigkonsult.se iCalcreator 2.30.10//
CALSCALE:GREGORIAN
METHOD:PUBLISH
UID:8e29c89c-c51b-4dd4-9bda-a2e555c28e5f
X-WR-CALDESC:
X-WR-RELCALID:7060ea5ccf62dbd21913e92950014ac3
X-WR-TIMEZONE:America/New_York
BEGIN:VTIMEZONE
TZID:America/New_York
BEGIN:STANDARD
TZNAME:EST
DTSTART:20221106T020000
TZOFFSETFROM:-0400
TZOFFSETTO:-0500
RDATE:20231105T020000
END:STANDARD
BEGIN:DAYLIGHT
TZNAME:EDT
DTSTART:20220313T020000
TZOFFSETFROM:-0500
TZOFFSETTO:-0400
RDATE:20230312T020000
RDATE:20240310T020000
END:DAYLIGHT
END:VTIMEZONE
BEGIN:VEVENT
UID:33dee967-710f-4a4e-8941-02ce63380a5e
DTSTAMP:20260425T173541Z
DESCRIPTION:
DTSTART;TZID=America/New_York:20230106T000000
DTEND;TZID=America/New_York:20230106T235900
LOCATION:
SUMMARY:Prayer Service (8th)
END:VEVENT
END:VCALENDAR
