BEGIN:VCALENDAR
VERSION:2.0
PRODID:-//sjcschargers.com//NONSGML kigkonsult.se iCalcreator 2.30.10//
CALSCALE:GREGORIAN
METHOD:PUBLISH
UID:00655238-5f2a-49a4-b57b-de7cb578b2c2
X-WR-CALDESC:
X-WR-RELCALID:7372cfa9163cb9e0eb2b9392b8f32311
X-WR-TIMEZONE:America/New_York
BEGIN:VTIMEZONE
TZID:America/New_York
BEGIN:STANDARD
TZNAME:EST
DTSTART:20221106T020000
TZOFFSETFROM:-0400
TZOFFSETTO:-0500
RDATE:20231105T020000
END:STANDARD
BEGIN:DAYLIGHT
TZNAME:EDT
DTSTART:20220313T020000
TZOFFSETFROM:-0500
TZOFFSETTO:-0400
RDATE:20230312T020000
RDATE:20240310T020000
END:DAYLIGHT
END:VTIMEZONE
BEGIN:VEVENT
UID:b6f7b5e4-156a-4d9f-a906-273619f7a62c
DTSTAMP:20260425T173223Z
DESCRIPTION:
DTSTART;TZID=America/New_York:20230109T000000
DTEND;TZID=America/New_York:20230109T235900
LOCATION:
SUMMARY:7A Class Mass
END:VEVENT
END:VCALENDAR
