BEGIN:VCALENDAR
VERSION:2.0
PRODID:-//sjcschargers.com//NONSGML kigkonsult.se iCalcreator 2.30.10//
CALSCALE:GREGORIAN
METHOD:PUBLISH
UID:2219f361-97b7-4702-b40c-6fbd12c0d62b
X-WR-CALDESC:
X-WR-RELCALID:2f37d1a2868403adcceab74b79b87fa7
X-WR-TIMEZONE:America/New_York
BEGIN:VTIMEZONE
TZID:America/New_York
BEGIN:STANDARD
TZNAME:EST
DTSTART:20221106T020000
TZOFFSETFROM:-0400
TZOFFSETTO:-0500
RDATE:20231105T020000
END:STANDARD
BEGIN:DAYLIGHT
TZNAME:EDT
DTSTART:20220313T020000
TZOFFSETFROM:-0500
TZOFFSETTO:-0400
RDATE:20230312T020000
RDATE:20240310T020000
END:DAYLIGHT
END:VTIMEZONE
BEGIN:VEVENT
UID:64d6d796-4c96-4170-a535-14b14a1e1b8d
DTSTAMP:20260425T173609Z
DESCRIPTION:
DTSTART;TZID=America/New_York:20230116T000000
DTEND;TZID=America/New_York:20230116T235900
LOCATION:
SUMMARY:No School - MLK Day
END:VEVENT
END:VCALENDAR
