BEGIN:VCALENDAR
VERSION:2.0
PRODID:-//sjcschargers.com//NONSGML kigkonsult.se iCalcreator 2.30.10//
CALSCALE:GREGORIAN
METHOD:PUBLISH
UID:655e62a7-032c-470b-9d4a-bbb191816a8b
X-WR-CALDESC:
X-WR-RELCALID:befe516bca9df84f87065985acabb674
X-WR-TIMEZONE:America/New_York
BEGIN:VTIMEZONE
TZID:America/New_York
BEGIN:STANDARD
TZNAME:EST
DTSTART:20221106T020000
TZOFFSETFROM:-0400
TZOFFSETTO:-0500
RDATE:20231105T020000
END:STANDARD
BEGIN:DAYLIGHT
TZNAME:EDT
DTSTART:20220313T020000
TZOFFSETFROM:-0500
TZOFFSETTO:-0400
RDATE:20230312T020000
RDATE:20240310T020000
END:DAYLIGHT
END:VTIMEZONE
BEGIN:VEVENT
UID:5acf7f31-1d0d-4dcb-aeb1-37fe8a9b1697
DTSTAMP:20260425T173237Z
DESCRIPTION:
DTSTART;TZID=America/New_York:20230123T000000
DTEND;TZID=America/New_York:20230123T235900
LOCATION:
SUMMARY:4thGrade Class Mass
END:VEVENT
END:VCALENDAR
