BEGIN:VCALENDAR
VERSION:2.0
PRODID:-//sjcschargers.com//NONSGML kigkonsult.se iCalcreator 2.30.10//
CALSCALE:GREGORIAN
METHOD:PUBLISH
UID:bc4c1b25-9999-4b9b-8e50-b1b54e5ce152
X-WR-CALDESC:
X-WR-RELCALID:813c4188c29f832751a933400cf580a5
X-WR-TIMEZONE:America/New_York
BEGIN:VTIMEZONE
TZID:America/New_York
BEGIN:STANDARD
TZNAME:EST
DTSTART:20221106T020000
TZOFFSETFROM:-0400
TZOFFSETTO:-0500
RDATE:20231105T020000
END:STANDARD
BEGIN:DAYLIGHT
TZNAME:EDT
DTSTART:20220313T020000
TZOFFSETFROM:-0500
TZOFFSETTO:-0400
RDATE:20230312T020000
RDATE:20240310T020000
END:DAYLIGHT
END:VTIMEZONE
BEGIN:VEVENT
UID:54856d3e-ba09-4841-a165-93c2a7d9d448
DTSTAMP:20260425T173351Z
DESCRIPTION:
DTSTART;TZID=America/New_York:20230124T000000
DTEND;TZID=America/New_York:20230124T235900
LOCATION:
SUMMARY:8th Grade Class Mass
END:VEVENT
END:VCALENDAR
