BEGIN:VCALENDAR
VERSION:2.0
PRODID:-//sjcschargers.com//NONSGML kigkonsult.se iCalcreator 2.30.10//
CALSCALE:GREGORIAN
METHOD:PUBLISH
UID:0c414d95-b072-436e-a05a-725df8dd9db8
X-WR-CALDESC:
X-WR-RELCALID:3795fece6e282ce08a95d972dfa5f603
X-WR-TIMEZONE:America/New_York
BEGIN:VTIMEZONE
TZID:America/New_York
BEGIN:STANDARD
TZNAME:EST
DTSTART:20221106T020000
TZOFFSETFROM:-0400
TZOFFSETTO:-0500
RDATE:20231105T020000
END:STANDARD
BEGIN:DAYLIGHT
TZNAME:EDT
DTSTART:20220313T020000
TZOFFSETFROM:-0500
TZOFFSETTO:-0400
RDATE:20230312T020000
RDATE:20240310T020000
END:DAYLIGHT
END:VTIMEZONE
BEGIN:VEVENT
UID:0e871998-274f-40a5-899e-e8a76943c551
DTSTAMP:20260425T173430Z
DESCRIPTION:
DTSTART;TZID=America/New_York:20230129T000000
DTEND;TZID=America/New_York:20230129T235900
LOCATION:
SUMMARY:School Mass (6th)
END:VEVENT
END:VCALENDAR
