BEGIN:VCALENDAR
VERSION:2.0
PRODID:-//sjcschargers.com//NONSGML kigkonsult.se iCalcreator 2.30.10//
CALSCALE:GREGORIAN
METHOD:PUBLISH
UID:22d3d5be-e689-43e3-88a6-f6a8e0d01bfb
X-WR-CALDESC:
X-WR-RELCALID:ed56c841cd3a7fa75f3c7ab66d16e023
X-WR-TIMEZONE:America/New_York
BEGIN:VTIMEZONE
TZID:America/New_York
BEGIN:STANDARD
TZNAME:EST
DTSTART:20221106T020000
TZOFFSETFROM:-0400
TZOFFSETTO:-0500
RDATE:20231105T020000
END:STANDARD
BEGIN:DAYLIGHT
TZNAME:EDT
DTSTART:20220313T020000
TZOFFSETFROM:-0500
TZOFFSETTO:-0400
RDATE:20230312T020000
RDATE:20240310T020000
END:DAYLIGHT
END:VTIMEZONE
BEGIN:VEVENT
UID:36e91159-b42c-4788-a8f2-7f7c9b3b3f51
DTSTAMP:20260425T173845Z
DESCRIPTION:
DTSTART;TZID=America/New_York:20230130T000000
DTEND;TZID=America/New_York:20230130T235900
LOCATION:
SUMMARY:Celebrate Students Day-Free NUT day for students
END:VEVENT
END:VCALENDAR
