BEGIN:VCALENDAR
VERSION:2.0
PRODID:-//sjcschargers.com//NONSGML kigkonsult.se iCalcreator 2.30.10//
CALSCALE:GREGORIAN
METHOD:PUBLISH
UID:cf20bc18-75c4-4265-b022-56c836e8541a
X-WR-CALDESC:
X-WR-RELCALID:3263f0eb8bc4b49606bb815330310a29
X-WR-TIMEZONE:America/New_York
BEGIN:VTIMEZONE
TZID:America/New_York
BEGIN:STANDARD
TZNAME:EST
DTSTART:20221106T020000
TZOFFSETFROM:-0400
TZOFFSETTO:-0500
RDATE:20231105T020000
END:STANDARD
BEGIN:DAYLIGHT
TZNAME:EDT
DTSTART:20220313T020000
TZOFFSETFROM:-0500
TZOFFSETTO:-0400
RDATE:20230312T020000
RDATE:20240310T020000
END:DAYLIGHT
END:VTIMEZONE
BEGIN:VEVENT
UID:74ff2859-1737-4c0c-b654-9f93f368b90e
DTSTAMP:20260425T155811Z
DESCRIPTION:
DTSTART;TZID=America/New_York:20230203T000000
DTEND;TZID=America/New_York:20230203T235900
LOCATION:
SUMMARY:Fun Run
END:VEVENT
END:VCALENDAR
