BEGIN:VCALENDAR
VERSION:2.0
PRODID:-//sjcschargers.com//NONSGML kigkonsult.se iCalcreator 2.30.10//
CALSCALE:GREGORIAN
METHOD:PUBLISH
UID:a46aa6d3-31b0-4fb4-9550-158d7df94765
X-WR-CALDESC:
X-WR-RELCALID:4b9ac021400509004baf7213319cd461
X-WR-TIMEZONE:America/New_York
BEGIN:VTIMEZONE
TZID:America/New_York
BEGIN:STANDARD
TZNAME:EST
DTSTART:20221106T020000
TZOFFSETFROM:-0400
TZOFFSETTO:-0500
RDATE:20231105T020000
END:STANDARD
BEGIN:DAYLIGHT
TZNAME:EDT
DTSTART:20220313T020000
TZOFFSETFROM:-0500
TZOFFSETTO:-0400
RDATE:20230312T020000
RDATE:20240310T020000
END:DAYLIGHT
END:VTIMEZONE
BEGIN:VEVENT
UID:688f9900-ec27-418e-958b-bb97398da91b
DTSTAMP:20260425T155857Z
DESCRIPTION:
DTSTART;TZID=America/New_York:20230203T000000
DTEND;TZID=America/New_York:20230203T235900
LOCATION:
SUMMARY:Half Day - First Friday
END:VEVENT
END:VCALENDAR
