BEGIN:VCALENDAR
VERSION:2.0
PRODID:-//sjcschargers.com//NONSGML kigkonsult.se iCalcreator 2.30.10//
CALSCALE:GREGORIAN
METHOD:PUBLISH
UID:f65b2829-4c8c-4db7-b783-184083da17d0
X-WR-CALDESC:
X-WR-RELCALID:b8fb68fb1e6878ef33ee055e03719042
X-WR-TIMEZONE:America/New_York
BEGIN:VTIMEZONE
TZID:America/New_York
BEGIN:STANDARD
TZNAME:EST
DTSTART:20221106T020000
TZOFFSETFROM:-0400
TZOFFSETTO:-0500
RDATE:20231105T020000
END:STANDARD
BEGIN:DAYLIGHT
TZNAME:EDT
DTSTART:20220313T020000
TZOFFSETFROM:-0500
TZOFFSETTO:-0400
RDATE:20230312T020000
RDATE:20240310T020000
END:DAYLIGHT
END:VTIMEZONE
BEGIN:VEVENT
UID:cba2f757-25b7-4467-830c-1964829a6869
DTSTAMP:20260425T155852Z
DESCRIPTION:
DTSTART;TZID=America/New_York:20230206T000000
DTEND;TZID=America/New_York:20230206T235900
LOCATION:
SUMMARY:6A Class Mass
END:VEVENT
END:VCALENDAR
