BEGIN:VCALENDAR
VERSION:2.0
PRODID:-//sjcschargers.com//NONSGML kigkonsult.se iCalcreator 2.30.10//
CALSCALE:GREGORIAN
METHOD:PUBLISH
UID:1fa1c58d-c7b1-49ef-b34d-6b2d8b7932dd
X-WR-CALDESC:
X-WR-RELCALID:1d0a14d8c074d5aed020b74652125266
X-WR-TIMEZONE:America/New_York
BEGIN:VTIMEZONE
TZID:America/New_York
BEGIN:STANDARD
TZNAME:EST
DTSTART:20221106T020000
TZOFFSETFROM:-0400
TZOFFSETTO:-0500
RDATE:20231105T020000
END:STANDARD
BEGIN:DAYLIGHT
TZNAME:EDT
DTSTART:20220313T020000
TZOFFSETFROM:-0500
TZOFFSETTO:-0400
RDATE:20230312T020000
RDATE:20240310T020000
END:DAYLIGHT
END:VTIMEZONE
BEGIN:VEVENT
UID:3167e49e-f5bb-4d6b-9f3c-e619b527ce9e
DTSTAMP:20260425T160014Z
DESCRIPTION:
DTSTART;TZID=America/New_York:20230213T000000
DTEND;TZID=America/New_York:20230213T235900
LOCATION:
SUMMARY:2nd Grade Class Mass
END:VEVENT
END:VCALENDAR
