BEGIN:VCALENDAR
VERSION:2.0
PRODID:-//sjcschargers.com//NONSGML kigkonsult.se iCalcreator 2.30.10//
CALSCALE:GREGORIAN
METHOD:PUBLISH
UID:8ca09bb9-3b91-48ea-984b-292ad4dad27e
X-WR-CALDESC:Girls @ Morningside 4pm\; Boys @ Morningside 5pm
X-WR-RELCALID:88381ca59dceb26050eaa5a8b01d1d88
X-WR-TIMEZONE:America/New_York
BEGIN:VTIMEZONE
TZID:America/New_York
BEGIN:STANDARD
TZNAME:EST
DTSTART:20221106T020000
TZOFFSETFROM:-0400
TZOFFSETTO:-0500
RDATE:20231105T020000
END:STANDARD
BEGIN:DAYLIGHT
TZNAME:EDT
DTSTART:20220313T020000
TZOFFSETFROM:-0500
TZOFFSETTO:-0400
RDATE:20230312T020000
RDATE:20240310T020000
END:DAYLIGHT
END:VTIMEZONE
BEGIN:VEVENT
UID:f1a30a02-0dd5-41ab-82b0-910c4c24ccf4
DTSTAMP:20260425T162240Z
DESCRIPTION:Girls @ Morningside 4pm\; Boys @ Morningside 5pm
DTSTART;TZID=America/New_York:20230216T000000
DTEND;TZID=America/New_York:20230216T235900
LOCATION:
SUMMARY:Flag Football games
END:VEVENT
END:VCALENDAR
