BEGIN:VCALENDAR
VERSION:2.0
PRODID:-//sjcschargers.com//NONSGML kigkonsult.se iCalcreator 2.30.10//
CALSCALE:GREGORIAN
METHOD:PUBLISH
UID:707aab0a-cf0c-43ca-bb46-2896ed18caf5
X-WR-CALDESC:Girls @ St. A's 4:15pm\; Boys @ St. A's 5:15pm
X-WR-RELCALID:c8f5638ffa4f44a3ffe5ba966dd8674e
X-WR-TIMEZONE:America/New_York
BEGIN:VTIMEZONE
TZID:America/New_York
BEGIN:STANDARD
TZNAME:EST
DTSTART:20221106T020000
TZOFFSETFROM:-0400
TZOFFSETTO:-0500
RDATE:20231105T020000
END:STANDARD
BEGIN:DAYLIGHT
TZNAME:EDT
DTSTART:20220313T020000
TZOFFSETFROM:-0500
TZOFFSETTO:-0400
RDATE:20230312T020000
RDATE:20240310T020000
END:DAYLIGHT
END:VTIMEZONE
BEGIN:VEVENT
UID:ad9ea91f-260b-4033-b4f9-1e4e51b6f8a6
DTSTAMP:20260425T162346Z
DESCRIPTION:Girls @ St. A's 4:15pm\; Boys @ St. A's 5:15pm
DTSTART;TZID=America/New_York:20230222T000000
DTEND;TZID=America/New_York:20230222T235900
LOCATION:
SUMMARY:Flag Football Games
END:VEVENT
END:VCALENDAR
